BEGIN:VCALENDAR
VERSION:2.0
PRODID:-//Laboratoire d&#039;Aérologie - ECPv6.15.20//NONSGML v1.0//EN
CALSCALE:GREGORIAN
METHOD:PUBLISH
X-ORIGINAL-URL:https://laero.omp.eu
X-WR-CALDESC:Évènements pour Laboratoire d&#039;Aérologie
REFRESH-INTERVAL;VALUE=DURATION:PT1H
X-Robots-Tag:noindex
X-PUBLISHED-TTL:PT1H
BEGIN:VTIMEZONE
TZID:Europe/Paris
BEGIN:DAYLIGHT
TZOFFSETFROM:+0100
TZOFFSETTO:+0200
TZNAME:CEST
DTSTART:20250330T010000
END:DAYLIGHT
BEGIN:STANDARD
TZOFFSETFROM:+0200
TZOFFSETTO:+0100
TZNAME:CET
DTSTART:20251026T010000
END:STANDARD
BEGIN:DAYLIGHT
TZOFFSETFROM:+0100
TZOFFSETTO:+0200
TZNAME:CEST
DTSTART:20260329T010000
END:DAYLIGHT
BEGIN:STANDARD
TZOFFSETFROM:+0200
TZOFFSETTO:+0100
TZNAME:CET
DTSTART:20261025T010000
END:STANDARD
BEGIN:DAYLIGHT
TZOFFSETFROM:+0100
TZOFFSETTO:+0200
TZNAME:CEST
DTSTART:20270328T010000
END:DAYLIGHT
BEGIN:STANDARD
TZOFFSETFROM:+0200
TZOFFSETTO:+0100
TZNAME:CET
DTSTART:20271031T010000
END:STANDARD
END:VTIMEZONE
BEGIN:VEVENT
DTSTART;TZID=Europe/Paris:20260414T150000
DTEND;TZID=Europe/Paris:20260414T160000
DTSTAMP:20260425T125958
CREATED:20251125T154432Z
LAST-MODIFIED:20260311T105006Z
UID:9225-1776178800-1776182400@laero.omp.eu
SUMMARY:MardiSciences : Tout ce que vous avez toujours voulu savoir sur la couche limite atmosphérique - F. Lohou\, M. Lothon
DESCRIPTION:La couche limite atmosphérique est la couche la plus basse de l’atmosphère\, en contact et interaction directe avec la surface terrestre. A travers elle\, transitent une grande partie des énergies et de la matière qui alimentent la machine climatique. C’est aussi celle dans laquelle évoluent la plupart des êtres vivants. Elle pose donc des enjeux sociétaux majeurs. \n\n\n\nDans ce séminaire\, après avoir pris le temps de la définir\, d’identifier l’importance sociétale et les enjeux qu’elle porte\, on abordera ses caractéristiques principales\, la façon dont elle fonctionne\, et on voyagera dans différentes régions du globe pour découvrir de quelle manière elle peut varier selon ces régions et les conditions. \n\n\n\n\n\n\n\ndocumentTélécharger
URL:https://laero.omp.eu/event/mardisciences-la-couche-limite-atmospherique/
LOCATION:Salle Boussinesq\, LAERO Toulouse\, 14 avenue Edouard Belin\, Toulouse\, France
CATEGORIES:mardisciences,seminaire
END:VEVENT
END:VCALENDAR